BEGIN:VCALENDAR
VERSION:2.0
PRODID:-//ChamberMaster//Event Calendar 2.0//EN
METHOD:PUBLISH
X-PUBLISHED-TTL:P1H
REFRESH-INTERVAL:P1H
CALSCALE:GREGORIAN
BEGIN:VTIMEZONE
TZID:America/Chicago
BEGIN:DAYLIGHT
RRULE:FREQ=YEARLY;BYMONTH=3;BYDAY=2SU
DTSTART:20070101T000000
TZOFFSETFROM:-0600
TZOFFSETTO:-0500
TZNAME:Central Daylight Time
END:DAYLIGHT
BEGIN:STANDARD
RRULE:FREQ=YEARLY;BYMONTH=11;BYDAY=1SU
DTSTART:20070101T000000
TZOFFSETFROM:-0500
TZOFFSETTO:-0600
TZNAME:Central Standard Time
END:STANDARD
END:VTIMEZONE
BEGIN:VEVENT
DTSTART;TZID=America/Chicago:20260722T100000
DTEND;TZID=America/Chicago:20260722T110000
X-MICROSOFT-CDO-ALLDAYEVENT:FALSE
SUMMARY:TMLA Women's Coffee
DESCRIPTION:Join your Ten Mile Lake Association women neighbors for a relaxing bi-weekly coffee gathering—a great chance to connect\, catch up\, and build community in a casual\, welcoming setting. Whether you’re new to the area or have been here for years\, it’s a simple way to share conversation and enjoy time with familiar faces and new friends.
X-ALT-DESC;FMTTYPE=text/html:Join your Ten Mile Lake Association women neighbors for a relaxing bi-weekly coffee gathering—a great chance to connect\, catch up\, and build community in a casual\, welcoming setting. Whether you’re new to the area or have been here for years\, it’s a simple way to share conversation and enjoy time with familiar faces and new friends.
LOCATION:
UID:e.733.1446696
SEQUENCE:3
DTSTAMP:20260420T045725Z
URL:https://members.tenmilelake.org/events/Details/tmla-women-s-coffee-1713506?sourceTypeId=Hub
END:VEVENT
END:VCALENDAR
